BEGIN:VCALENDAR
PRODID:-//Microsoft Corporation//Outlook 14.0 MIMEDIR//EN
VERSION:2.0
METHOD:PUBLISH
X-MS-OLK-FORCEINSPECTOROPEN:TRUE
BEGIN:VEVENT
CLASS:PUBLIC
CREATED:20191211T010312Z
DESCRIPTION:Dementia Australia National Symposium 2020\n\n24 March 2020\nTh
	e Fullerton Hotel\, Sydney\n\nFor further comments or enquiries please con
	tact: \n\nDementia 2020 Symposium Office:\nWALDRONSMITH Management\n119 Bu
	ckhurst Street\nSouth Melbourne VIC 3205\nAustralia\n\nT +61 3 9645 6311\n
	E dementia2020@dementia.org.au \n\nPlease continue to visit the website fo
	r any updates and the latest news: www.dementia2020.org.au  \n\n
DTEND;VALUE=DATE:20200325
DTSTAMP:20191211T010312Z
DTSTART;VALUE=DATE:20200324
LAST-MODIFIED:20191211T010312Z
LOCATION:The Fullerton Hotel\, Sydney
PRIORITY:5
SEQUENCE:0
SUMMARY;LANGUAGE=en-au:Dementia Australia National Symposium 2020
TRANSP:TRANSPARENT
UID:040000008200E00074C5B7101A82E00800000000B06C72F61AB0D501000000000000000
	010000000134F87A4CE0CE44E8691A0FE6BE17254
X-ALT-DESC;FMTTYPE=text/html:<!DOCTYPE HTML PUBLIC "-//W3C//DTD HTML 3.2//E
	N">\n<HTML>\n<HEAD>\n<META NAME="Generator" CONTENT="MS Exchange Server ve
	rsion 14.02.5004.000">\n<TITLE></TITLE>\n</HEAD>\n<BODY>\n<!-- Converted f
	rom text/rtf format -->\n\n<P DIR=LTR><SPAN LANG="en-au"></SPAN><SPAN LANG
	="en-au"><FONT COLOR="#1F4E79" FACE="Trebuchet MS">Dementia Australia Nati
	onal Symposium 2020</FONT></SPAN><SPAN LANG="en-au"></SPAN><SPAN LANG="en-
	au"></SPAN></P>\n\n<P DIR=LTR><SPAN LANG="en-au"></SPAN><SPAN LANG="en-au"
	><FONT COLOR="#1F4E79" FACE="Trebuchet MS">24 March 2020</FONT></SPAN><SPA
	N LANG="en-au"></SPAN><SPAN LANG="en-au"><BR>\n</SPAN><SPAN LANG="en-au"><
	/SPAN><SPAN LANG="en-au"><FONT COLOR="#1F4E79" FACE="Trebuchet MS">The Ful
	lerton Hotel\, Sydney</FONT></SPAN><SPAN LANG="en-au"></SPAN><SPAN LANG="e
	n-au"></SPAN></P>\n\n<P DIR=LTR><SPAN LANG="en-au"></SPAN><SPAN LANG="en-a
	u"><FONT COLOR="#1F4E79" FACE="Trebuchet MS">For further comments or enqui
	ries please contact:</FONT></SPAN><SPAN LANG="en-au"></SPAN><SPAN LANG="en
	-au"><FONT FACE="Trebuchet MS"> </FONT></SPAN></P>\n\n<P DIR=LTR><SPAN LAN
	G="en-au"></SPAN><SPAN LANG="en-au"><FONT COLOR="#1F4E79" FACE="Trebuchet 
	MS">Dementia 2020 Symposium</FONT></SPAN><SPAN LANG="en-au"></SPAN><SPAN L
	ANG="en-au"><FONT COLOR="#1F4E79" FACE="Trebuchet MS"> Office:</FONT></SPA
	N><SPAN LANG="en-au"></SPAN><SPAN LANG="en-au"><BR>\n</SPAN><SPAN LANG="en
	-au"></SPAN><SPAN LANG="en-au"><FONT COLOR="#1F4E79" FACE="Trebuchet MS">W
	ALDRONSMITH Management</FONT></SPAN><SPAN LANG="en-au"></SPAN><SPAN LANG="
	en-au"><BR>\n</SPAN><SPAN LANG="en-au"></SPAN><SPAN LANG="en-au"><FONT COL
	OR="#1F4E79" FACE="Trebuchet MS">119 Buckhurst Street</FONT></SPAN><SPAN L
	ANG="en-au"></SPAN><SPAN LANG="en-au"><BR>\n</SPAN><SPAN LANG="en-au"></SP
	AN><SPAN LANG="en-au"><FONT COLOR="#1F4E79" FACE="Trebuchet MS">South Melb
	ourne VIC 3205</FONT></SPAN><SPAN LANG="en-au"></SPAN><SPAN LANG="en-au"><
	BR>\n</SPAN><SPAN LANG="en-au"></SPAN><SPAN LANG="en-au"><FONT COLOR="#1F4
	E79" FACE="Trebuchet MS">Australia</FONT></SPAN><SPAN LANG="en-au"></SPAN>
	<SPAN LANG="en-au"></SPAN></P>\n\n<P DIR=LTR><SPAN LANG="en-au"></SPAN><SP
	AN LANG="en-au"><FONT COLOR="#1F4E79" FACE="Trebuchet MS">T +61 3 9645 631
	1</FONT></SPAN><SPAN LANG="en-au"></SPAN><SPAN LANG="en-au"></SPAN></P>\n\
	n<P DIR=LTR><SPAN LANG="en-au"></SPAN><SPAN LANG="en-au"><FONT COLOR="#1F4
	E79" FACE="Trebuchet MS">E</FONT></SPAN><SPAN LANG="en-au"></SPAN><SPAN LA
	NG="en-au"><FONT FACE="Trebuchet MS"></FONT></SPAN><SPAN LANG="en-au"> </S
	PAN><A HREF="mailto:dementia2020@dementia.org.au"><SPAN LANG="en-au"></SPA
	N><SPAN LANG="en-au"><U><FONT COLOR="#0000FF" FACE="Trebuchet MS">dementia
	2020@dementia.org.au</FONT></U></SPAN><SPAN LANG="en-au"></SPAN></A><SPAN 
	LANG="en-au"></SPAN><SPAN LANG="en-au"><FONT FACE="Trebuchet MS"></FONT></
	SPAN><SPAN LANG="en-au"></SPAN><SPAN LANG="en-au"> </SPAN></P>\n\n<P DIR=L
	TR><SPAN LANG="en-au"></SPAN><SPAN LANG="en-au"><FONT COLOR="#1F4E79" FACE
	="Trebuchet MS">Please continue to visit the website for any updates and t
	he latest news:</FONT></SPAN><SPAN LANG="en-au"></SPAN><SPAN LANG="en-au">
	<FONT FACE="Trebuchet MS"></FONT></SPAN><SPAN LANG="en-au"> </SPAN><A HREF
	="http://www.dementia2020.org.au"><SPAN LANG="en-au"></SPAN><SPAN LANG="en
	-au"><U><FONT COLOR="#0000FF" FACE="Trebuchet MS">www.dementia2020.org.au<
	/FONT></U></SPAN><SPAN LANG="en-au"></SPAN></A><SPAN LANG="en-au"></SPAN><
	SPAN LANG="en-au"><FONT FACE="Trebuchet MS"></FONT></SPAN><SPAN LANG="en-a
	u"></SPAN><SPAN LANG="en-au">&nbsp\;<FONT FACE="Trebuchet MS"> </FONT></SP
	AN></P>\n\n<P DIR=LTR><SPAN LANG="en-au"></SPAN><SPAN LANG="en-au"></SPAN>
	</P>\n\n</BODY>\n</HTML>
X-MICROSOFT-CDO-BUSYSTATUS:FREE
X-MICROSOFT-CDO-IMPORTANCE:1
X-MICROSOFT-DISALLOW-COUNTER:FALSE
X-MS-OLK-AUTOFILLLOCATION:FALSE
X-MS-OLK-CONFTYPE:0
BEGIN:VALARM
TRIGGER:-PT1080M
ACTION:DISPLAY
DESCRIPTION:Reminder
END:VALARM
END:VEVENT
END:VCALENDAR
